BEGIN:VCALENDAR
VERSION:2.0
PRODID:-//CSRP - Centre for the Study of Religion and Politics - ECPv6.15.17.1//NONSGML v1.0//EN
CALSCALE:GREGORIAN
METHOD:PUBLISH
X-ORIGINAL-URL:https://csrp.wp.st-andrews.ac.uk
X-WR-CALDESC:Events for CSRP - Centre for the Study of Religion and Politics
REFRESH-INTERVAL;VALUE=DURATION:PT1H
X-Robots-Tag:noindex
X-PUBLISHED-TTL:PT1H
BEGIN:VTIMEZONE
TZID:Europe/London
BEGIN:DAYLIGHT
TZOFFSETFROM:+0000
TZOFFSETTO:+0100
TZNAME:BST
DTSTART:20250330T010000
END:DAYLIGHT
BEGIN:STANDARD
TZOFFSETFROM:+0100
TZOFFSETTO:+0000
TZNAME:GMT
DTSTART:20251026T010000
END:STANDARD
BEGIN:DAYLIGHT
TZOFFSETFROM:+0000
TZOFFSETTO:+0100
TZNAME:BST
DTSTART:20260329T010000
END:DAYLIGHT
BEGIN:STANDARD
TZOFFSETFROM:+0100
TZOFFSETTO:+0000
TZNAME:GMT
DTSTART:20261025T010000
END:STANDARD
BEGIN:DAYLIGHT
TZOFFSETFROM:+0000
TZOFFSETTO:+0100
TZNAME:BST
DTSTART:20270328T010000
END:DAYLIGHT
BEGIN:STANDARD
TZOFFSETFROM:+0100
TZOFFSETTO:+0000
TZNAME:GMT
DTSTART:20271031T010000
END:STANDARD
END:VTIMEZONE
BEGIN:VEVENT
DTSTART;TZID=Europe/London:20260402T111500
DTEND;TZID=Europe/London:20260402T124500
DTSTAMP:20260424T190630
CREATED:20260319T093442Z
LAST-MODIFIED:20260319T093442Z
UID:10000009-1775128500-1775133900@csrp.wp.st-andrews.ac.uk
SUMMARY:CSRP seminar with Dr Ann Simpson (St Andrews)
DESCRIPTION:Dr Ann Simpson\, Associate Researcher of the Centre for the Study of Religion and Politics\, will give the penultimate CSRP research seminar of the term ‘On indigenous issues in Colombia’.
URL:https://csrp.wp.st-andrews.ac.uk/event/csrp-seminar-with-dr-ann-simpson-st-andrews/
LOCATION:College Hall\, St Mary's College\, Fife\, United Kingdom
CATEGORIES:seminars
END:VEVENT
END:VCALENDAR